BEGIN:VCALENDAR
VERSION:2.0
PRODID:-//Twain Sullivan Elementary - ECPv6.15.20//NONSGML v1.0//EN
CALSCALE:GREGORIAN
METHOD:PUBLISH
X-ORIGINAL-URL:https://tse.sd54.bc.ca
X-WR-CALDESC:Events for Twain Sullivan Elementary
REFRESH-INTERVAL;VALUE=DURATION:PT1H
X-Robots-Tag:noindex
X-PUBLISHED-TTL:PT1H
BEGIN:VTIMEZONE
TZID:America/Vancouver
BEGIN:DAYLIGHT
TZOFFSETFROM:-0800
TZOFFSETTO:-0700
TZNAME:PDT
DTSTART:20240310T100000
END:DAYLIGHT
BEGIN:STANDARD
TZOFFSETFROM:-0700
TZOFFSETTO:-0800
TZNAME:PST
DTSTART:20241103T090000
END:STANDARD
BEGIN:DAYLIGHT
TZOFFSETFROM:-0800
TZOFFSETTO:-0700
TZNAME:PDT
DTSTART:20250309T100000
END:DAYLIGHT
BEGIN:STANDARD
TZOFFSETFROM:-0700
TZOFFSETTO:-0800
TZNAME:PST
DTSTART:20251102T090000
END:STANDARD
BEGIN:DAYLIGHT
TZOFFSETFROM:-0800
TZOFFSETTO:-0700
TZNAME:PDT
DTSTART:20260308T100000
END:DAYLIGHT
BEGIN:STANDARD
TZOFFSETFROM:-0700
TZOFFSETTO:-0800
TZNAME:PST
DTSTART:20261101T090000
END:STANDARD
END:VTIMEZONE
BEGIN:VEVENT
DTSTART;TZID=America/Vancouver:20250503T150000
DTEND;TZID=America/Vancouver:20250503T190000
DTSTAMP:20260422T044408
CREATED:20250424T211618Z
LAST-MODIFIED:20250424T211618Z
UID:10000063-1746284400-1746298800@tse.sd54.bc.ca
SUMMARY:Missoula Theatre - Performances
DESCRIPTION:Performances:  3:00 pm & 5:30 pm
URL:https://tse.sd54.bc.ca/event/missoula-theatre-performances/
END:VEVENT
BEGIN:VEVENT
DTSTART;VALUE=DATE:20250516
DTEND;VALUE=DATE:20250517
DTSTAMP:20260422T044408
CREATED:20250215T150540Z
LAST-MODIFIED:20250516T200554Z
UID:10000056-1747353600-1747439999@tse.sd54.bc.ca
SUMMARY:Professional Development Day
DESCRIPTION:SD54 schools closed to students
URL:https://tse.sd54.bc.ca/event/professional-development-day-10/
CATEGORIES:ProD
END:VEVENT
BEGIN:VEVENT
DTSTART;VALUE=DATE:20250519
DTEND;VALUE=DATE:20250520
DTSTAMP:20260422T044408
CREATED:20250218T150529Z
LAST-MODIFIED:20250519T202031Z
UID:10000057-1747612800-1747699199@tse.sd54.bc.ca
SUMMARY:Victoria Day
DESCRIPTION:SD54 schools closed in observance of Victoria Day
URL:https://tse.sd54.bc.ca/event/victoria-day-3/
CATEGORIES:School Holidays
END:VEVENT
BEGIN:VEVENT
DTSTART;TZID=America/Vancouver:20250527T173000
DTEND;TZID=America/Vancouver:20250527T190000
DTSTAMP:20260422T044408
CREATED:20250226T152055Z
LAST-MODIFIED:20250527T202038Z
UID:10000058-1748367000-1748372400@tse.sd54.bc.ca
SUMMARY:School Board Meeting – Houston Secondary School
DESCRIPTION:Board Meeting – Agendas \n\n \nThis month’s board meeting will take place at Houston Secondary School.
URL:https://tse.sd54.bc.ca/event/school-board-meeting-silverthorne-elementary/
LOCATION:Silverthorne Elementary School\, 3455 13th Ave\, Houston\, British Columbia\, V0J 1Z0\, Canada
CATEGORIES:Board Meetings
END:VEVENT
BEGIN:VEVENT
DTSTART;VALUE=DATE:20250529
DTEND;VALUE=DATE:20250530
DTSTAMP:20260422T044408
CREATED:20250424T213457Z
LAST-MODIFIED:20250424T213457Z
UID:10000064-1748476800-1748563199@tse.sd54.bc.ca
SUMMARY:Spring TEK Day
DESCRIPTION:The whole school will have the opportunity to work with local experts to learn about identification/harvesting wild plants\, tracking and building snares.  As well as\, time to enjoy the outdoors and have a hot dog roast.
URL:https://tse.sd54.bc.ca/event/spring-tek-day/
END:VEVENT
END:VCALENDAR